BEGIN:VCALENDAR
VERSION:2.0
PRODID:SchoolNow
CALSCALE:GREGORIAN
BEGIN:VEVENT
UID:2a63a9c8-3cbd-11f0-a0e8-0a58a9feac02
DTSTAMP:20260421T133510Z
SUMMARY:PLC Dismissal  1:30
URL;VALUE=URI:https://www.cusd201.org/manning/calendar/8221453/plc-dismissa
 l-1-30
DTSTART;VALUE=DATE:20260327
DTEND;VALUE=DATE:20260328
END:VEVENT
END:VCALENDAR
