BEGIN:VCALENDAR
VERSION:2.0
PRODID:SchoolNow
CALSCALE:GREGORIAN
BEGIN:VEVENT
UID:2a63ad2e-3cbd-11f0-bdfd-0a58a9feac02
DTSTAMP:20260421T133510Z
SUMMARY:Concert - 2nd Grade at 6:00pm-3rd Grade at 7:00pm
URL;VALUE=URI:https://www.cusd201.org/manning/calendar/8221456/concert-2nd-
 grade-at-6-00pm-3rd-grade-at-7-00pm
DTSTART:20260312T230000Z
DTEND:20260313T003000Z
END:VEVENT
END:VCALENDAR
