BEGIN:VCALENDAR
VERSION:2.0
PRODID:SchoolNow
CALSCALE:GREGORIAN
BEGIN:VEVENT
UID:2a63af68-3cbd-11f0-b836-0a58a9feac02
DTSTAMP:20260421T133510Z
SUMMARY:SIP Day  11:15 Dismissal
URL;VALUE=URI:https://www.cusd201.org/manning/calendar/8221458/sip-day-11-1
 5-dismissal
DTSTART;VALUE=DATE:20260211
DTEND;VALUE=DATE:20260212
END:VEVENT
END:VCALENDAR
