BEGIN:VCALENDAR
VERSION:2.0
PRODID:SchoolNow
CALSCALE:GREGORIAN
BEGIN:VEVENT
UID:2b133078-3cbd-11f0-b9f1-0a58a9feac02
DTSTAMP:20260421T133510Z
SUMMARY:PLC Dismissal 1:30
URL;VALUE=URI:https://www.cusd201.org/manning/calendar/8221490/plc-dismissa
 l-1-30
DTSTART;VALUE=DATE:20260513
DTEND;VALUE=DATE:20260514
END:VEVENT
END:VCALENDAR
