BEGIN:VCALENDAR
VERSION:2.0
PRODID:SchoolNow
CALSCALE:GREGORIAN
BEGIN:VEVENT
UID:2b13329e-3cbd-11f0-bbe8-0a58a9feac02
DTSTAMP:20260421T133510Z
SUMMARY:PLC Dismissal 1:30
URL;VALUE=URI:https://www.cusd201.org/manning/calendar/8221492/plc-dismissa
 l-1-30
DTSTART;VALUE=DATE:20260527
DTEND;VALUE=DATE:20260528
END:VEVENT
END:VCALENDAR
