BEGIN:VCALENDAR
VERSION:2.0
PRODID:SchoolNow
CALSCALE:GREGORIAN
BEGIN:VEVENT
UID:eaa874fe-4184-11f0-a6f3-0affef11562d
DTSTAMP:20260421T133510Z
SUMMARY:Parent Teacher Conferences
URL;VALUE=URI:https://www.cusd201.org/manning/calendar/8253478/parent-teach
 er-conferences
DTSTART:20260226T183000Z
DTEND:20260227T020000Z
END:VEVENT
END:VCALENDAR
