BEGIN:VCALENDAR
VERSION:2.0
PRODID:SchoolNow
CALSCALE:GREGORIAN
BEGIN:VEVENT
UID:2d99013e-77e5-11f0-9ace-0afffd832347
DTSTAMP:20260421T133510Z
SUMMARY:BPAC Meeting
URL;VALUE=URI:https://www.cusd201.org/manning/calendar/8503171/bpac-meeting
DTSTART:20260303T230000Z
DTEND:20260304T000000Z
END:VEVENT
END:VCALENDAR
