BEGIN:VCALENDAR
VERSION:2.0
PRODID:SchoolNow
CALSCALE:GREGORIAN
BEGIN:VEVENT
UID:f2f6814e-7d45-11f0-aef1-0afff59c1769
DTSTAMP:20260421T133510Z
SUMMARY:We C.A.N. Wellness Club
URL;VALUE=URI:https://www.cusd201.org/manning/calendar/8523067/we-c-a-n-wel
 lness-club
DTSTART:20260317T193000Z
DTEND:20260317T203000Z
END:VEVENT
END:VCALENDAR
