BEGIN:VCALENDAR
VERSION:2.0
PRODID:SchoolNow
CALSCALE:GREGORIAN
BEGIN:VEVENT
UID:37dc8572-89d2-11f0-82e8-0affc531d027
DTSTAMP:20260421T133510Z
SUMMARY:Chicken Nuggets Club
URL;VALUE=URI:https://www.cusd201.org/manning/calendar/8581412/chicken-nugg
 ets-club
DTSTART:20260430T193000Z
DTEND:20260430T203000Z
END:VEVENT
END:VCALENDAR
