BEGIN:VCALENDAR
VERSION:2.0
PRODID:SchoolNow
CALSCALE:GREGORIAN
BEGIN:VEVENT
UID:37dc864e-89d2-11f0-b1ff-0affc531d027
DTSTAMP:20260421T133510Z
SUMMARY:Chicken Nuggets Club
URL;VALUE=URI:https://www.cusd201.org/manning/calendar/8581413/chicken-nugg
 ets-club
DTSTART:20260514T193000Z
DTEND:20260514T203000Z
END:VEVENT
END:VCALENDAR
