BEGIN:VCALENDAR
VERSION:2.0
PRODID:SchoolNow
CALSCALE:GREGORIAN
BEGIN:VEVENT
UID:e6fc6610-8f65-11f0-a06a-02d094cb3a59
DTSTAMP:20260421T133510Z
SUMMARY:Chicken Nuggets Club
URL;VALUE=URI:https://www.cusd201.org/manning/calendar/8610880/chicken-nugg
 ets-club
DTSTART:20260528T193000Z
DTEND:20260528T203000Z
END:VEVENT
END:VCALENDAR
