BEGIN:VCALENDAR
VERSION:2.0
PRODID:SchoolNow
CALSCALE:GREGORIAN
BEGIN:VEVENT
UID:7c04ed16-97f6-11f0-b190-0a58a9feac02
DTSTAMP:20260421T133510Z
SUMMARY:4th/5th Chorus Club
URL;VALUE=URI:https://www.cusd201.org/manning/calendar/8653620/4th-5th-chor
 us-club
DTSTART:20260113T203000Z
DTEND:20260113T211500Z
END:VEVENT
END:VCALENDAR
