BEGIN:VCALENDAR
VERSION:2.0
PRODID:SchoolNow
CALSCALE:GREGORIAN
BEGIN:VEVENT
UID:7c04f734-97f6-11f0-8aec-0a58a9feac02
DTSTAMP:20260421T133510Z
SUMMARY:4th/5th Chorus Club
URL;VALUE=URI:https://www.cusd201.org/manning/calendar/8653631/4th-5th-chor
 us-club
DTSTART:20260421T193000Z
DTEND:20260421T201500Z
END:VEVENT
END:VCALENDAR
