BEGIN:VCALENDAR
VERSION:2.0
PRODID:SchoolNow
CALSCALE:GREGORIAN
BEGIN:VEVENT
UID:6b3344ae-995b-11f0-8887-0a58a9feac02
DTSTAMP:20260421T133510Z
SUMMARY:4th/5th Grade Chorus Club
URL;VALUE=URI:https://www.cusd201.org/manning/calendar/8659671/4th-5th-grad
 e-chorus-club
DTSTART:20260310T193000Z
DTEND:20260310T201500Z
END:VEVENT
END:VCALENDAR
