BEGIN:VCALENDAR
VERSION:2.0
PRODID:SchoolNow
CALSCALE:GREGORIAN
BEGIN:VEVENT
UID:37cae57c-9d57-11f0-9ce7-0a58a9feac02
DTSTAMP:20260421T133510Z
SUMMARY:Student Council
LOCATION:Conference Room
URL;VALUE=URI:https://www.cusd201.org/manning/calendar/8676953/student-coun
 cil
DTSTART:20260123T133000Z
DTEND:20260123T140000Z
END:VEVENT
END:VCALENDAR
