BEGIN:VCALENDAR
VERSION:2.0
PRODID:SchoolNow
CALSCALE:GREGORIAN
BEGIN:VEVENT
UID:37caecd4-9d57-11f0-b0e9-0a58a9feac02
DTSTAMP:20260421T133510Z
SUMMARY:Student Council
LOCATION:Conference Room
URL;VALUE=URI:https://www.cusd201.org/manning/calendar/8676961/student-coun
 cil
DTSTART:20260410T123000Z
DTEND:20260410T130000Z
END:VEVENT
END:VCALENDAR
