BEGIN:VCALENDAR
VERSION:2.0
PRODID:SchoolNow
CALSCALE:GREGORIAN
BEGIN:VEVENT
UID:37caedba-9d57-11f0-81ce-0a58a9feac02
DTSTAMP:20260421T133510Z
SUMMARY:Student Council
LOCATION:Conference Room
URL;VALUE=URI:https://www.cusd201.org/manning/calendar/8676962/student-coun
 cil
DTSTART:20260417T123000Z
DTEND:20260417T130000Z
END:VEVENT
END:VCALENDAR
