BEGIN:VCALENDAR
VERSION:2.0
PRODID:SchoolNow
CALSCALE:GREGORIAN
BEGIN:VEVENT
UID:5a8fab70-b05c-11f0-907a-0a58a9feac02
DTSTAMP:20260421T133510Z
SUMMARY:We C.A.N. Wellness Club
URL;VALUE=URI:https://www.cusd201.org/manning/calendar/8745594/we-c-a-n-wel
 lness-club
DTSTART:20260203T203000Z
DTEND:20260203T213000Z
END:VEVENT
END:VCALENDAR
