BEGIN:VCALENDAR
VERSION:2.0
PRODID:SchoolNow
CALSCALE:GREGORIAN
BEGIN:VEVENT
UID:4d03fdee-c579-11f0-8a2e-0ef0a6f6ff45
DTSTAMP:20260421T133510Z
SUMMARY:PTO Meeting
LOCATION:Manning-L-12 - STEM Room (40)
URL;VALUE=URI:https://www.cusd201.org/manning/calendar/8803862/pto-meeting
DTSTART:20260512T220000Z
DTEND:20260512T230000Z
END:VEVENT
END:VCALENDAR
