BEGIN:VCALENDAR
VERSION:2.0
PRODID:SchoolNow
CALSCALE:GREGORIAN
BEGIN:VEVENT
UID:4d0406fe-c579-11f0-943b-0ef0a6f6ff45
DTSTAMP:20260421T133510Z
SUMMARY:PTO Meeting
LOCATION:Manning-L-12 - STEM Room (40)
URL;VALUE=URI:https://www.cusd201.org/manning/calendar/8803863/pto-meeting
DTSTART:20260121T000000Z
DTEND:20260121T010000Z
END:VEVENT
END:VCALENDAR
