BEGIN:VCALENDAR
VERSION:2.0
PRODID:SchoolNow
CALSCALE:GREGORIAN
BEGIN:VEVENT
UID:b62c93dc-d139-11f0-bc26-02d8155a6ec7
DTSTAMP:20260422T014511Z
SUMMARY:Manning Band & Choir Winter Concert
LOCATION:Westmont High School\, 909 Oakwood Dr\, Westmont\, IL 60559\, USA\
 , WHS-1-175 - Auditorium (700)
URL;VALUE=URI:https://www.cusd201.org/manning/calendar/8817460/manning-band
 -choir-winter-concert
DTSTART:20261211T000000Z
DTEND:20261211T010000Z
END:VEVENT
END:VCALENDAR
