BEGIN:VCALENDAR
VERSION:2.0
PRODID:SchoolNow
CALSCALE:GREGORIAN
BEGIN:VEVENT
UID:aab53172-d205-11f0-ad98-0a58a9feac02
DTSTAMP:20260421T133510Z
SUMMARY:2/3 Girls Basketball
URL;VALUE=URI:https://www.cusd201.org/manning/calendar/8818495/2-3-girls-ba
 sketball
DTSTART:20260107T204500Z
DTEND:20260107T214500Z
END:VEVENT
END:VCALENDAR
