BEGIN:VCALENDAR
VERSION:2.0
PRODID:SchoolNow
CALSCALE:GREGORIAN
BEGIN:VEVENT
UID:ab25944e-d205-11f0-ae9b-0a58a9feac02
DTSTAMP:20260421T133510Z
SUMMARY:2/3 Girls Basketball
URL;VALUE=URI:https://www.cusd201.org/manning/calendar/8818497/2-3-girls-ba
 sketball
DTSTART:20260112T204500Z
DTEND:20260112T214500Z
END:VEVENT
END:VCALENDAR
