BEGIN:VCALENDAR
VERSION:2.0
PRODID:SchoolNow
CALSCALE:GREGORIAN
BEGIN:VEVENT
UID:ab259692-d205-11f0-ad28-0a58a9feac02
DTSTAMP:20260421T133510Z
SUMMARY:2/3 Girls Basketball
URL;VALUE=URI:https://www.cusd201.org/manning/calendar/8818499/2-3-girls-ba
 sketball
DTSTART:20260202T204500Z
DTEND:20260202T214500Z
END:VEVENT
END:VCALENDAR
