BEGIN:VCALENDAR
VERSION:2.0
PRODID:SchoolNow
CALSCALE:GREGORIAN
BEGIN:VEVENT
UID:ab2c974e-d205-11f0-a77a-0a58a9feac02
DTSTAMP:20260421T133510Z
SUMMARY:2/3 Boys Basketball
URL;VALUE=URI:https://www.cusd201.org/manning/calendar/8818508/2-3-boys-bas
 ketball
DTSTART:20260106T204500Z
DTEND:20260106T214500Z
END:VEVENT
END:VCALENDAR
