BEGIN:VCALENDAR
VERSION:2.0
PRODID:SchoolNow
CALSCALE:GREGORIAN
BEGIN:VEVENT
UID:ab2c9942-d205-11f0-9d13-0a58a9feac02
DTSTAMP:20260421T133510Z
SUMMARY:2/3 Boys Basketball
URL;VALUE=URI:https://www.cusd201.org/manning/calendar/8818510/2-3-boys-bas
 ketball
DTSTART:20260120T204500Z
DTEND:20260120T214500Z
END:VEVENT
END:VCALENDAR
