BEGIN:VCALENDAR
VERSION:2.0
PRODID:SchoolNow
CALSCALE:GREGORIAN
BEGIN:VEVENT
UID:ab2c9a32-d205-11f0-990d-0a58a9feac02
DTSTAMP:20260421T133510Z
SUMMARY:2/3 Boys Basketball
URL;VALUE=URI:https://www.cusd201.org/manning/calendar/8818511/2-3-boys-bas
 ketball
DTSTART:20260127T204500Z
DTEND:20260127T214500Z
END:VEVENT
END:VCALENDAR
