BEGIN:VCALENDAR
VERSION:2.0
PRODID:SchoolNow
CALSCALE:GREGORIAN
BEGIN:VEVENT
UID:ab2c9b2c-d205-11f0-9c0c-0a58a9feac02
DTSTAMP:20260421T133510Z
SUMMARY:2/3 Boys Basketball
URL;VALUE=URI:https://www.cusd201.org/manning/calendar/8818512/2-3-boys-bas
 ketball
DTSTART:20260203T204500Z
DTEND:20260203T214500Z
END:VEVENT
END:VCALENDAR
