BEGIN:VCALENDAR
VERSION:2.0
PRODID:SchoolNow
CALSCALE:GREGORIAN
BEGIN:VEVENT
UID:ab2ca0ea-d205-11f0-a3f9-0a58a9feac02
DTSTAMP:20260421T133510Z
SUMMARY:2/3Girls Basketball
URL;VALUE=URI:https://www.cusd201.org/manning/calendar/8818518/2-3girls-bas
 ketball
DTSTART:20260129T204500Z
DTEND:20260129T214500Z
END:VEVENT
END:VCALENDAR
