BEGIN:VCALENDAR
VERSION:2.0
PRODID:SchoolNow
CALSCALE:GREGORIAN
BEGIN:VEVENT
UID:e24a8920-fdfc-11f0-ac83-0a58a9feac02
DTSTAMP:20260421T133510Z
SUMMARY:STEM Club 2nd Grade Girls
URL;VALUE=URI:https://www.cusd201.org/manning/calendar/8846951/stem-club-2n
 d-grade-girls
DTSTART:20260420T194500Z
DTEND:20260420T204500Z
END:VEVENT
END:VCALENDAR
