BEGIN:VCALENDAR
VERSION:2.0
PRODID:SchoolNow
CALSCALE:GREGORIAN
BEGIN:VEVENT
UID:e24a8a92-fdfc-11f0-be6f-0a58a9feac02
DTSTAMP:20260421T133510Z
SUMMARY:STEM Club  2nd Grade Girls
URL;VALUE=URI:https://www.cusd201.org/manning/calendar/8846952/stem-club-2n
 d-grade-girls
DTSTART:20260302T204500Z
DTEND:20260302T214500Z
END:VEVENT
END:VCALENDAR
