BEGIN:VCALENDAR
VERSION:2.0
PRODID:SchoolNow
CALSCALE:GREGORIAN
BEGIN:VEVENT
UID:e24a8b96-fdfc-11f0-8956-0a58a9feac02
DTSTAMP:20260421T133510Z
SUMMARY:Battle of the Books Competition
LOCATION:Westmont High School\, 909 Oakwood Dr\, Westmont\, IL 60559\, USA
URL;VALUE=URI:https://www.cusd201.org/manning/calendar/8846953/battle-of-th
 e-books-competition
DTSTART:20260430T220000Z
DTEND:20260430T223000Z
END:VEVENT
END:VCALENDAR
