BEGIN:VCALENDAR
VERSION:2.0
PRODID:SchoolNow
CALSCALE:GREGORIAN
BEGIN:VEVENT
UID:e24a8e16-fdfc-11f0-ae85-0a58a9feac02
DTSTAMP:20260421T133510Z
SUMMARY:STEM Club 2nd Grade Boys
URL;VALUE=URI:https://www.cusd201.org/manning/calendar/8846955/stem-club-2n
 d-grade-boys
DTSTART:20260512T194500Z
DTEND:20260512T204500Z
END:VEVENT
END:VCALENDAR
