BEGIN:VCALENDAR
VERSION:2.0
PRODID:SchoolNow
CALSCALE:GREGORIAN
BEGIN:VEVENT
UID:e24a973a-fdfc-11f0-92d7-0a58a9feac02
DTSTAMP:20260421T133510Z
SUMMARY:STEM Club 2nd Grade Boys
URL;VALUE=URI:https://www.cusd201.org/manning/calendar/8846962/stem-club-2n
 d-grade-boys
DTSTART:20260310T194500Z
DTEND:20260310T204500Z
END:VEVENT
END:VCALENDAR
