BEGIN:VCALENDAR
VERSION:2.0
PRODID:SchoolNow
CALSCALE:GREGORIAN
BEGIN:VEVENT
UID:e24a9b04-fdfc-11f0-bf75-0a58a9feac02
DTSTAMP:20260421T133510Z
SUMMARY:2/3 Boys Basketball
URL;VALUE=URI:https://www.cusd201.org/manning/calendar/8846965/2-3-boys-bas
 ketball
DTSTART:20260130T204500Z
DTEND:20260130T214500Z
END:VEVENT
END:VCALENDAR
