BEGIN:VCALENDAR
VERSION:2.0
PRODID:SchoolNow
CALSCALE:GREGORIAN
BEGIN:VEVENT
UID:e24a9c26-fdfc-11f0-a3b5-0a58a9feac02
DTSTAMP:20260421T133510Z
SUMMARY:We C.A.N. Wellness Club
URL;VALUE=URI:https://www.cusd201.org/manning/calendar/8846966/we-c-a-n-wel
 lness-club
DTSTART:20260122T203000Z
DTEND:20260122T213000Z
END:VEVENT
END:VCALENDAR
