BEGIN:VCALENDAR
VERSION:2.0
PRODID:SchoolNow
CALSCALE:GREGORIAN
BEGIN:VEVENT
UID:e24aa112-fdfc-11f0-bfa0-0a58a9feac02
DTSTAMP:20260421T133510Z
SUMMARY:STEM Club 2nd Grade Boys
URL;VALUE=URI:https://www.cusd201.org/manning/calendar/8846970/stem-club-2n
 d-grade-boys
DTSTART:20260303T204500Z
DTEND:20260303T214500Z
END:VEVENT
END:VCALENDAR
