BEGIN:VCALENDAR
VERSION:2.0
PRODID:SchoolNow
CALSCALE:GREGORIAN
BEGIN:VEVENT
UID:e290e5f0-fdfc-11f0-9508-0a58a9feac02
DTSTAMP:20260421T133510Z
SUMMARY:Battle of the Books
URL;VALUE=URI:https://www.cusd201.org/manning/calendar/8846972/battle-of-th
 e-books
DTSTART:20260122T203000Z
DTEND:20260122T213000Z
END:VEVENT
END:VCALENDAR
