BEGIN:VCALENDAR
VERSION:2.0
PRODID:SchoolNow
CALSCALE:GREGORIAN
BEGIN:VEVENT
UID:e2959974-fdfc-11f0-a13c-0a58a9feac02
DTSTAMP:20260421T133510Z
SUMMARY:Battle of the Books
URL;VALUE=URI:https://www.cusd201.org/manning/calendar/8846977/battle-of-th
 e-books
DTSTART:20260305T203000Z
DTEND:20260305T213000Z
END:VEVENT
END:VCALENDAR
