BEGIN:VCALENDAR
VERSION:2.0
PRODID:SchoolNow
CALSCALE:GREGORIAN
BEGIN:VEVENT
UID:e2959f14-fdfc-11f0-8979-0a58a9feac02
DTSTAMP:20260421T133510Z
SUMMARY:Battle of the Books
URL;VALUE=URI:https://www.cusd201.org/manning/calendar/8846982/battle-of-th
 e-books
DTSTART:20260416T193000Z
DTEND:20260416T203000Z
END:VEVENT
END:VCALENDAR
