BEGIN:VCALENDAR
VERSION:2.0
PRODID:SchoolNow
CALSCALE:GREGORIAN
BEGIN:VEVENT
UID:e295a00e-fdfc-11f0-b2d9-0a58a9feac02
DTSTAMP:20260421T133510Z
SUMMARY:Battle of the Books
URL;VALUE=URI:https://www.cusd201.org/manning/calendar/8846983/battle-of-th
 e-books
DTSTART:20260423T193000Z
DTEND:20260423T203000Z
END:VEVENT
END:VCALENDAR
