BEGIN:VCALENDAR
VERSION:2.0
PRODID:SchoolNow
CALSCALE:GREGORIAN
BEGIN:VEVENT
UID:e295a54a-fdfc-11f0-a6e7-0a58a9feac02
DTSTAMP:20260421T133510Z
SUMMARY:4th Grade Garden Club
URL;VALUE=URI:https://www.cusd201.org/manning/calendar/8846984/4th-grade-ga
 rden-club
DTSTART:20260305T203000Z
DTEND:20260305T213000Z
END:VEVENT
END:VCALENDAR
