BEGIN:VCALENDAR
VERSION:2.0
PRODID:SchoolNow
CALSCALE:GREGORIAN
BEGIN:VEVENT
UID:e295a658-fdfc-11f0-98d9-0a58a9feac02
DTSTAMP:20260421T133510Z
SUMMARY:4th Grade Garden Club
URL;VALUE=URI:https://www.cusd201.org/manning/calendar/8846985/4th-grade-ga
 rden-club
DTSTART:20260312T193000Z
DTEND:20260312T203000Z
END:VEVENT
END:VCALENDAR
