BEGIN:VCALENDAR
VERSION:2.0
PRODID:SchoolNow
CALSCALE:GREGORIAN
BEGIN:VEVENT
UID:e295ab08-fdfc-11f0-8ad4-0a58a9feac02
DTSTAMP:20260421T133510Z
SUMMARY:4th Grade Garden Club
URL;VALUE=URI:https://www.cusd201.org/manning/calendar/8846990/4th-grade-ga
 rden-club
DTSTART:20260423T193000Z
DTEND:20260423T203000Z
END:VEVENT
END:VCALENDAR
