BEGIN:VCALENDAR
VERSION:2.0
PRODID:SchoolNow
CALSCALE:GREGORIAN
BEGIN:VEVENT
UID:e295abee-fdfc-11f0-8d1e-0a58a9feac02
DTSTAMP:20260421T133510Z
SUMMARY:4th Grade Garden Club
URL;VALUE=URI:https://www.cusd201.org/manning/calendar/8846991/4th-grade-ga
 rden-club
DTSTART:20260430T193000Z
DTEND:20260430T203000Z
END:VEVENT
END:VCALENDAR
