BEGIN:VCALENDAR
VERSION:2.0
PRODID:SchoolNow
CALSCALE:GREGORIAN
BEGIN:VEVENT
UID:e295adce-fdfc-11f0-a2b1-0a58a9feac02
DTSTAMP:20260421T133510Z
SUMMARY:4th Grade Garden Club
URL;VALUE=URI:https://www.cusd201.org/manning/calendar/8846993/4th-grade-ga
 rden-club
DTSTART:20260514T193000Z
DTEND:20260514T203000Z
END:VEVENT
END:VCALENDAR
