BEGIN:VCALENDAR
VERSION:2.0
PRODID:SchoolNow
CALSCALE:GREGORIAN
BEGIN:VEVENT
UID:08b212c8-05f4-11f1-bc08-0e598b931679
DTSTAMP:20260421T133510Z
SUMMARY:4/5 Girls Basktball
URL;VALUE=URI:https://www.cusd201.org/manning/calendar/8851782/4-5-girls-ba
 sktball
DTSTART:20260218T204500Z
DTEND:20260218T214500Z
END:VEVENT
END:VCALENDAR
