BEGIN:VCALENDAR
VERSION:2.0
PRODID:SchoolNow
CALSCALE:GREGORIAN
BEGIN:VEVENT
UID:08b21552-05f4-11f1-9193-0e598b931679
DTSTAMP:20260421T133510Z
SUMMARY:Kangaroo Math Club Competition Test
URL;VALUE=URI:https://www.cusd201.org/manning/calendar/8851783/kangaroo-mat
 h-club-competition-test
DTSTART:20260319T193000Z
DTEND:20260319T220000Z
END:VEVENT
END:VCALENDAR
