BEGIN:VCALENDAR
VERSION:2.0
PRODID:SchoolNow
CALSCALE:GREGORIAN
BEGIN:VEVENT
UID:08b2171e-05f4-11f1-9198-0e598b931679
DTSTAMP:20260421T133510Z
SUMMARY:Kangaroo Math Club PRACTICE
URL;VALUE=URI:https://www.cusd201.org/manning/calendar/8851784/kangaroo-mat
 h-club-practice
DTSTART:20260312T193000Z
DTEND:20260312T210000Z
END:VEVENT
END:VCALENDAR
