BEGIN:VCALENDAR
VERSION:2.0
PRODID:SchoolNow
CALSCALE:GREGORIAN
BEGIN:VEVENT
UID:08b2184a-05f4-11f1-b279-0e598b931679
DTSTAMP:20260421T133510Z
SUMMARY:Kangaroo Math Club PRACTICE
URL;VALUE=URI:https://www.cusd201.org/manning/calendar/8851785/kangaroo-mat
 h-club-practice
DTSTART:20260219T203000Z
DTEND:20260219T220000Z
END:VEVENT
END:VCALENDAR
